BEGIN:VCALENDAR
PRODID:-//Splash Event Planning System
VERSION:2.0
METHOD:PUBLISH
BEGIN:VEVENT
DTSTAMP:20201211T213351Z
UID:493ef8cad48bfbe7007714b435d471f7c303bb6c@aspenideas.spla
 shthat.com
URL:https://aspenideas.splashthat.com
DTSTART:20200628T230000Z
DTEND:20200629T000000Z
ORGANIZER;CN="Aspen Institute":mailto:events@aspeninstitute.
 org
SUMMARY:Aspen Ideas Festival
DESCRIPTION:Join us each night from June 28-July 2 at 5:00 p
 m MST to enjoy Aspen Ideas right from your home. \n\nhttps:/
 /www.aspenideas.org/attend/festival
LOCATION:https://www.aspenideas.org/attend/festival
END:VEVENT
END:VCALENDAR
